BEGIN:VCALENDAR
PRODID:-//eluceo/ical//2.0/EN
VERSION:2.0
CALSCALE:GREGORIAN
BEGIN:VEVENT
UID:91020e9026faac074b023e2fdfd5d56f
DTSTAMP:20260421T063926Z
SUMMARY:JFS Presents 'Left to Their Own Devices' Live Webinar
DESCRIPTION:Jewish Federation of Greater Hartford\nCommunity Calendar\nhttp
 s://jewishhartford.org/community-calendar/jfs-presents-left-to-their-own-d
 evices-live-webinar-1706312051\n\nJewish Family Services is excited to sha
 re a free mental health webinar series for parents and educators! These we
 binars are made possible through our partnership with The Wellness Institu
 te\, an organization that educates families on a variety of mental health-
 related topics. This series will bring mental health experts to you and of
 fer tips and tricks to help support our youth. We would greatly appreciate
  it if you could share this series with your clients and network so that w
 e can reach...
DTSTART;TZID=America/New_York:20240308T200000
DTEND;TZID=America/New_York:20240308T213000
END:VEVENT
END:VCALENDAR
