BEGIN:VCALENDAR
PRODID:-//eluceo/ical//2.0/EN
VERSION:2.0
CALSCALE:GREGORIAN
BEGIN:VEVENT
UID:80f8e524cb12ec3c882dd7f9731335d2
DTSTAMP:20260423T231203Z
SUMMARY:JFS Board Meeting
DESCRIPTION:Jewish Federation of Greater Hartford\nCommunity Calendar\nhttp
 s://jewishhartford.org/community-calendar/jfs-board-meeting-1681743667\n\n
 JFS Board Meeting
DTSTART;TZID=America/New_York:20231108T190000
DTEND;TZID=America/New_York:20231108T210000
END:VEVENT
END:VCALENDAR
