BEGIN:VCALENDAR
PRODID:-//eluceo/ical//2.0/EN
VERSION:2.0
CALSCALE:GREGORIAN
BEGIN:VEVENT
UID:54b05f2d81d6c3a563e2cc37f7feb7be
DTSTAMP:20260421T062550Z
SUMMARY:JFGH Board Meeting
DESCRIPTION:Jewish Federation of Greater Hartford\nCommunity Calendar\nhttp
 s://jewishhartford.org/community-calendar/jfgh-board-meeting-1683035271\n\
 nJFGH Board Meeting
DTSTART;TZID=America/New_York:20240314T170000
DTEND;TZID=America/New_York:20240314T190000
END:VEVENT
END:VCALENDAR
