BEGIN:VCALENDAR
PRODID:-//eluceo/ical//2.0/EN
VERSION:2.0
CALSCALE:GREGORIAN
BEGIN:VEVENT
UID:c1db70607c6cbed5ed49ed3ace7a75fa
DTSTAMP:20260423T114241Z
SUMMARY:JFGH Board Meeting
DESCRIPTION:Jewish Federation of Greater Hartford\nCommunity Calendar\nhttp
 s://jewishhartford.org/community-calendar/jfgh-board-meeting-1683035085\n\
 nJFGH Board Meeting
DTSTART;TZID=America/New_York:20240208T170000
DTEND;TZID=America/New_York:20240208T190000
END:VEVENT
END:VCALENDAR
