BEGIN:VCALENDAR
PRODID:-//eluceo/ical//2.0/EN
VERSION:2.0
CALSCALE:GREGORIAN
BEGIN:VEVENT
UID:d36be6ed0a873b859158a2319ee7f19f
DTSTAMP:20260423T063301Z
SUMMARY:JFGH Board Meeting
DESCRIPTION:Jewish Federation of Greater Hartford\nCommunity Calendar\nhttp
 s://jewishhartford.org/community-calendar/jfgh-board-meeting-1683034953\n\
 nJFGH Board Meeting
DTSTART;TZID=America/New_York:20231205T170000
DTEND;TZID=America/New_York:20231205T190000
END:VEVENT
END:VCALENDAR
