BEGIN:VCALENDAR
PRODID:-//eluceo/ical//2.0/EN
VERSION:2.0
CALSCALE:GREGORIAN
BEGIN:VEVENT
UID:398217946b503f727c9313297dd4ff8c
DTSTAMP:20260423T182008Z
SUMMARY:JFGH Board Meeting
DESCRIPTION:Jewish Federation of Greater Hartford\nCommunity Calendar\nhttp
 s://jewishhartford.org/community-calendar/jfgh-board-meeting-1683034618\n\
 nJFGH Board Meeting
DTSTART;TZID=America/New_York:20230927T170000
DTEND;TZID=America/New_York:20230927T190000
END:VEVENT
END:VCALENDAR
