BEGIN:VCALENDAR
PRODID:-//eluceo/ical//2.0/EN
VERSION:2.0
CALSCALE:GREGORIAN
BEGIN:VEVENT
UID:977f4110e304c585b526407eda188ff0
DTSTAMP:20260424T092830Z
SUMMARY:Jewish Music Education class- cantor Ness
DESCRIPTION:Jewish Federation of Greater Hartford\nCommunity Calendar\nhttp
 s://jewishhartford.org/community-calendar/jewish-music-education-class--ca
 ntor-ness-1697484529\n\nJewish Music Education Class- Cantor Ness explores
  background\, History and Composers of Jewish MusicA
DTSTART;TZID=America/New_York:20231120T130000
DTEND;TZID=America/New_York:20231120T140000
END:VEVENT
END:VCALENDAR
