BEGIN:VCALENDAR
PRODID:-//eluceo/ical//2.0/EN
VERSION:2.0
CALSCALE:GREGORIAN
BEGIN:VEVENT
UID:00a375943da15558a2a26ef8391c79e7
DTSTAMP:20260420T172645Z
SUMMARY:Jewish Life in Middletown
DESCRIPTION:Jewish Federation of Greater Hartford\nCommunity Calendar\nhttp
 s://jewishhartford.org/community-calendar/jewish-life-in-middletown-172191
 8983\n\nJoin us to learn about the legacy of the Jewish community in Middl
 etown\, Connecticut from the nineteenth century to the present\, in honor 
 of Congregation Adath Israel’s 120th [122nd?] anniversary.\nExplore Midd
 letown’s early Jewish history\, the evolution of the Adath Israel synago
 gue\, and recollections of growing up in Middletown and of Jewish-owned bu
 sinesses on Main Street. You’ll also have the chance to learn about and 
 visit the synagogue’s Judaica Museum\, the largest and most...
DTSTART;TZID=America/New_York:20241103T140000
DTEND;TZID=America/New_York:20241103T160000
END:VEVENT
END:VCALENDAR
