BEGIN:VCALENDAR
PRODID:-//eluceo/ical//2.0/EN
VERSION:2.0
CALSCALE:GREGORIAN
BEGIN:VEVENT
UID:362b3e84e6c3b9faab5962f9d47a3d8b
DTSTAMP:20260421T100829Z
SUMMARY:JFS Board Meeting
DESCRIPTION:Jewish Federation of Greater Hartford\nCommunity Calendar\nhttp
 s://jewishhartford.org/community-calendar/jewish-family-services-168174385
 8\n\nJFS Board Meeting
DTSTART;TZID=America/New_York:20240313T190000
DTEND;TZID=America/New_York:20240313T210000
END:VEVENT
END:VCALENDAR
