BEGIN:VCALENDAR
PRODID:-//eluceo/ical//2.0/EN
VERSION:2.0
CALSCALE:GREGORIAN
BEGIN:VEVENT
UID:b844d1f0164595a53c478426ff1f64b2
DTSTAMP:20260421T164124Z
SUMMARY:Jewish Community Foundation Board Meeting
DESCRIPTION:Jewish Federation of Greater Hartford\nCommunity Calendar\nhttp
 s://jewishhartford.org/community-calendar/jewish-community-foundation-boar
 d-meeting-1718111582\n\nJewish Community Foundation Board Meeting
DTSTART;TZID=America/New_York:20241120T163000
DTEND;TZID=America/New_York:20241120T183000
END:VEVENT
END:VCALENDAR
