BEGIN:VCALENDAR
PRODID:-//eluceo/ical//2.0/EN
VERSION:2.0
CALSCALE:GREGORIAN
BEGIN:VEVENT
UID:b9c746f45af0d02a541f9d6d6a2d3b39
DTSTAMP:20260421T132834Z
SUMMARY:Jewish Community Foundation Board Meeting
DESCRIPTION:Jewish Federation of Greater Hartford\nCommunity Calendar\nhttp
 s://jewishhartford.org/community-calendar/jewish-community-foundation-boar
 d-meeting-1718111440\n\nJewish Community Foundation Board Meeting
DTSTART;TZID=America/New_York:20240925T163000
DTEND;TZID=America/New_York:20240925T183000
END:VEVENT
END:VCALENDAR
