BEGIN:VCALENDAR
PRODID:-//eluceo/ical//2.0/EN
VERSION:2.0
CALSCALE:GREGORIAN
BEGIN:VEVENT
UID:83e283f698520a65461ff1ec4d574ce4
DTSTAMP:20260425T021037Z
SUMMARY:JCRC Board Meeting-Zoom meeting
DESCRIPTION:Jewish Federation of Greater Hartford\nCommunity Calendar\nhttp
 s://jewishhartford.org/community-calendar/jcrc-board-meeting-zoom-meeting-
 1692639001\n\nJCRC Board meeting via Zoom
DTSTART;TZID=America/New_York:20231121T120000
DTEND;TZID=America/New_York:20231121T130000
END:VEVENT
END:VCALENDAR
