BEGIN:VCALENDAR
PRODID:-//eluceo/ical//2.0/EN
VERSION:2.0
CALSCALE:GREGORIAN
BEGIN:VEVENT
UID:cc3512ba3f4c1e1fcb3f0bec1a1177ab
DTSTAMP:20260423T150641Z
SUMMARY:JCRC Board meeting-Zoom
DESCRIPTION:Jewish Federation of Greater Hartford\nCommunity Calendar\nhttp
 s://jewishhartford.org/community-calendar/jcrc-board-meeting-zoom-16926391
 34\n\nJCRC Board Meeting via Zoom
DTSTART;TZID=America/New_York:20240326T120000
DTEND;TZID=America/New_York:20240326T130000
END:VEVENT
END:VCALENDAR
