BEGIN:VCALENDAR
PRODID:-//eluceo/ical//2.0/EN
VERSION:2.0
CALSCALE:GREGORIAN
BEGIN:VEVENT
UID:ffc567499b871f6dc7d188b5d66e5cb6
DTSTAMP:20260422T220719Z
SUMMARY:JCRC Board Meeting-Breakfast meeting
DESCRIPTION:Jewish Federation of Greater Hartford\nCommunity Calendar\nhttp
 s://jewishhartford.org/community-calendar/jcrc-board-meeting-breakfast-mee
 ting-1692638840\n\nJCRC Board Meeting-Breakfast meeting
DTSTART;TZID=America/New_York:20240126T083000
DTEND;TZID=America/New_York:20240126T103000
END:VEVENT
END:VCALENDAR
