BEGIN:VCALENDAR
PRODID:-//eluceo/ical//2.0/EN
VERSION:2.0
CALSCALE:GREGORIAN
BEGIN:VEVENT
UID:a6ff5f17a40b90f265320865e9b677f6
DTSTAMP:20260423T213326Z
SUMMARY:JCRC Board Meeting
DESCRIPTION:Jewish Federation of Greater Hartford\nCommunity Calendar\nhttp
 s://jewishhartford.org/community-calendar/jcrc-board-meeting-1692638407\n\
 nJCRC September Board Meeting-In person-JFGH Board Room
DTSTART;TZID=America/New_York:20231019T173000
DTEND;TZID=America/New_York:20231019T193000
END:VEVENT
END:VCALENDAR
