BEGIN:VCALENDAR
PRODID:-//eluceo/ical//2.0/EN
VERSION:2.0
CALSCALE:GREGORIAN
BEGIN:VEVENT
UID:034913c4c314ed9e6b0420a3347b4240
DTSTAMP:20260423T210629Z
SUMMARY:JCF Board Meeting
DESCRIPTION:Jewish Federation of Greater Hartford\nCommunity Calendar\nhttp
 s://jewishhartford.org/community-calendar/jcf-board-meeting-1684519615\n\n
 Jewish Community Foundation Board Meeting\n4:30-6:30PM
DTSTART;TZID=America/New_York:20230906T163000
DTEND;TZID=America/New_York:20230906T183000
END:VEVENT
END:VCALENDAR
