BEGIN:VCALENDAR
PRODID:-//eluceo/ical//2.0/EN
VERSION:2.0
CALSCALE:GREGORIAN
BEGIN:VEVENT
UID:25e76118212ef6f698a1078208d56e6e
DTSTAMP:20260421T063931Z
SUMMARY:JCC Book Festival Event
DESCRIPTION:Jewish Federation of Greater Hartford\nCommunity Calendar\nhttp
 s://jewishhartford.org/community-calendar/jcc-book-festival-event-16873903
 44\n\nJCC Book Festival Event. Come meet the author! Details TBA.
DTSTART;TZID=America/New_York:20240306T190000
DTEND;TZID=America/New_York:20240306T210000
END:VEVENT
END:VCALENDAR
