BEGIN:VCALENDAR
PRODID:-//eluceo/ical//2.0/EN
VERSION:2.0
CALSCALE:GREGORIAN
BEGIN:VEVENT
UID:0e1cea9a55256a36f09ef33686c91973
DTSTAMP:20260421T132839Z
SUMMARY:Ice Cream Social: Rabbi Leon Wind Religious School
DESCRIPTION:Jewish Federation of Greater Hartford\nCommunity Calendar\nhttp
 s://jewishhartford.org/community-calendar/ice-cream-social-rabbi-leon-wind
 -religious-school-1721149158\n\nLooking to give your child a meaningful je
 wish education? Join Rabbi Leon Wind Religious School at Beth Sholom B’n
 ai Israel for our annual Ice Cream Social. Meet our teachers and our Princ
 ipal\, Rabbi Alan Lefkowitz\, learn about our curriculum\, and make new fr
 iends!\n\n \n\nPlease RSVP for this free event by visiting https://www.my
 shul.org/event/rlwrs-ice-cream-social2.html\n\nThis event will be held at\
 n\nBeth Sholom B&#39\;nai Israel\n\n400 Middle Turnpike East\n\nManchester
 \, CT 06040\n\nFor m...
DTSTART;TZID=America/New_York:20240826T183000
DTEND;TZID=America/New_York:20240826T203000
END:VEVENT
END:VCALENDAR
