BEGIN:VCALENDAR
PRODID:-//eluceo/ical//2.0/EN
VERSION:2.0
CALSCALE:GREGORIAN
BEGIN:VEVENT
UID:95956ff44e5c851ce6871e016881abe2
DTSTAMP:20260421T100611Z
SUMMARY:Howard J. Siegal Leadership Institute
DESCRIPTION:Jewish Federation of Greater Hartford\nCommunity Calendar\nhttp
 s://jewishhartford.org/community-calendar/howard-j-siegal-leadership-insti
 tute-1706131281\n\nHoward J. Siegal Leadership Institute
DTSTART;TZID=America/New_York:20240320T183000
DTEND;TZID=America/New_York:20240320T203000
END:VEVENT
END:VCALENDAR
