BEGIN:VCALENDAR
PRODID:-//eluceo/ical//2.0/EN
VERSION:2.0
CALSCALE:GREGORIAN
BEGIN:VEVENT
UID:25710ef6a95fd80c74efc5885da601a0
DTSTAMP:20260423T100219Z
SUMMARY:How To Confront Antisemitism for High School & College Students
DESCRIPTION:Jewish Federation of Greater Hartford\nCommunity Calendar\nhttp
 s://jewishhartford.org/community-calendar/how-to-confront-antisemitism-for
 -high-school--college-students-1709738440\n\nJoin us for this free program
  and hear guest speakers from the University of Hartford: Lisa Langsner\, 
 Director of Jewish Student Life\, and Emma Strumpf\, Manager of Programmin
 g as well as University of Hartford and Trinity College Jewish students ta
 lk about antisemitism. We will also welcome a representative from Jewish F
 amily Services to address the emotional consequences of Jewish hate. Pizza
  and salad will be served. Registration required at www.cbict.org.
DTSTART;TZID=America/New_York:20240317T120000
DTEND;TZID=America/New_York:20240317T140000
END:VEVENT
END:VCALENDAR
