BEGIN:VCALENDAR
PRODID:-//eluceo/ical//2.0/EN
VERSION:2.0
CALSCALE:GREGORIAN
BEGIN:VEVENT
UID:9231728a987200b1803ef320bd3208c3
DTSTAMP:20260421T103801Z
SUMMARY:Hartford Jewish Sports Hall of Fame: Nominations Deadline for 2024 
 Class
DESCRIPTION:Jewish Federation of Greater Hartford\nCommunity Calendar\nhttp
 s://jewishhartford.org/community-calendar/hartford-jewish-sports-hall-of-f
 ame-nominations-open-for-2024-class-1709662633\n\nThe Hartford Jewish Spor
 ts Hall of Fame Has Returned!\nNow Accepting Adult & Youth Nominees for 20
 24 (until March 15)\nSince 1982\, we’ve been celebrating the triumphs of
  sports figures who have left an indelible mark on the Greater Hartford ar
 ea. From athletes and coaches to managers\, agents\, officials\, owners\, 
 writers\, broadcasters\, and devoted supporters – we honor excellence. Y
 our nomination could be the next chapter in this legacy. \n\nNominate an a
 dult or high school senior today....
DTSTART;TZID=America/New_York:20240315T000000
DTEND;TZID=America/New_York:20240315T235500
END:VEVENT
END:VCALENDAR
