BEGIN:VCALENDAR
PRODID:-//eluceo/ical//2.0/EN
VERSION:2.0
CALSCALE:GREGORIAN
BEGIN:VEVENT
UID:e9e637b1bcc7ca50b029ed5bc25f3362
DTSTAMP:20260421T103755Z
SUMMARY:Hartford Jewish Film Festival: East of the River Screening
DESCRIPTION:Jewish Federation of Greater Hartford\nCommunity Calendar\nhttp
 s://jewishhartford.org/community-calendar/hartford-jewish-film-festival-ea
 st-of-the-river-screening-1705974915\n\nJoin the Phyllis Hoffman Hartford 
 Jewish Film Festival at the Parkade Cinema in Manchester for a screening o
 f "The Catskills."
DTSTART;TZID=America/New_York:20240328T190000
DTEND;TZID=America/New_York:20240328T210000
END:VEVENT
END:VCALENDAR
