BEGIN:VCALENDAR
PRODID:-//eluceo/ical//2.0/EN
VERSION:2.0
CALSCALE:GREGORIAN
BEGIN:VEVENT
UID:968dd637d7dac600b2f1f36879ceeb1a
DTSTAMP:20260421T223636Z
SUMMARY:HaNer USY Convention
DESCRIPTION:Jewish Federation of Greater Hartford\nCommunity Calendar\nhttp
 s://jewishhartford.org/community-calendar/haner-usy-convention-1690388070\
 n\nHaNer USY Convention at Camp Ramah in New England. Details to come.
DTSTART;TZID=America/New_York:20240308T160000
DTEND;TZID=America/New_York:20240310T120000
END:VEVENT
END:VCALENDAR
