BEGIN:VCALENDAR
PRODID:-//eluceo/ical//2.0/EN
VERSION:2.0
CALSCALE:GREGORIAN
BEGIN:VEVENT
UID:4d8875f5a2dab43df099883b9245ff6b
DTSTAMP:20260423T195947Z
SUMMARY:Golda's Balcony: Play & Talk Back
DESCRIPTION:Jewish Federation of Greater Hartford\nCommunity Calendar\nhttp
 s://jewishhartford.org/community-calendar/goldas-balcony-play--talk-back-1
 695752670\n\nCongregation Beth Israel presents "Golda’s Balcony"\, a nin
 ety-minute tour-de-force starring Sandra Laub. With humor\, pathos\, and p
 assion\, we see her journey from impoverished child in Czarist Russia to b
 ecoming Israel’s fourth Prime Minister\, scrambling to save the country 
 from impending destruction during the 1973 Yom Kippur War. At the heart of
  the play is Meir’s lifelong struggle to attain peace while agnozing ove
 r difficult moral choices\, including and especially the ‘terrible que..
 .
DTSTART;TZID=America/New_York:20231029T140000
DTEND;TZID=America/New_York:20231029T160000
END:VEVENT
END:VCALENDAR
