BEGIN:VCALENDAR
PRODID:-//eluceo/ical//2.0/EN
VERSION:2.0
CALSCALE:GREGORIAN
BEGIN:VEVENT
UID:40f8e8af5059fe0b71dd8f08d549626e
DTSTAMP:20260423T235400Z
SUMMARY:Global Connections with Robert Siegel: Growing up with social media
DESCRIPTION:Jewish Federation of Greater Hartford\nCommunity Calendar\nhttp
 s://jewishhartford.org/community-calendar/global-connections-with-robert-s
 iegel-growing-up-with-social-media-1703183033\n\nRobert Siegel (NPR) inter
 views: Sherry Turkle and Brian Merchant
DTSTART;TZID=America/New_York:20231115T160000
DTEND;TZID=America/New_York:20231115T170000
END:VEVENT
END:VCALENDAR
