BEGIN:VCALENDAR
PRODID:-//eluceo/ical//2.0/EN
VERSION:2.0
CALSCALE:GREGORIAN
BEGIN:VEVENT
UID:c9b94e0d8d1918e449f5e9035516f0cf
DTSTAMP:20260423T102345Z
SUMMARY:Global Connections with Robert Siegel: Freedom of Speech on Campus
DESCRIPTION:Jewish Federation of Greater Hartford\nCommunity Calendar\nhttp
 s://jewishhartford.org/community-calendar/global-connections-with-robert-s
 iegel-freedom-of-speech-on-campus-1701191718\n\nRobert Siegel (NPR) interv
 iews: Kenneth Stern\, Professor Susannah Heschel\, Talia Dror
DTSTART;TZID=America/New_York:20231204T160000
DTEND;TZID=America/New_York:20231204T180000
END:VEVENT
END:VCALENDAR
