BEGIN:VCALENDAR
PRODID:-//eluceo/ical//2.0/EN
VERSION:2.0
CALSCALE:GREGORIAN
BEGIN:VEVENT
UID:3d70ec7742821b70873fe77aa8da636a
DTSTAMP:20260423T201219Z
SUMMARY:Global Connections with Robert Siegel: Combating Antisemitism
DESCRIPTION:Jewish Federation of Greater Hartford\nCommunity Calendar\nhttp
 s://jewishhartford.org/community-calendar/global-connections-with-robert-s
 iegel-combating-antisemitism-1693328746\n\nRobert Siegel (NPR) interviews:
  Dr. Georgette Bennett\, Dan Granot\, Ted Deutch & Tamara Berens
DTSTART;TZID=America/New_York:20230913T160000
DTEND;TZID=America/New_York:20230913T170000
END:VEVENT
END:VCALENDAR
