BEGIN:VCALENDAR
PRODID:-//eluceo/ical//2.0/EN
VERSION:2.0
CALSCALE:GREGORIAN
BEGIN:VEVENT
UID:faa5accbb923830e13d88a8225a30d1e
DTSTAMP:20260420T174410Z
SUMMARY:Global Connections: Is the Golden Age of American Jews Ending?
DESCRIPTION:Jewish Federation of Greater Hartford\nCommunity Calendar\nhttp
 s://jewishhartford.org/community-calendar/global-connections-is-the-golden
 -age-of-american-jews-ending-1711468025\n\nRobert Siegel (NPR) interviews:
  Franklin Foer\, Dr. Leonard Saxe\, and Pamela Nadell
DTSTART;TZID=America/New_York:20240430T160000
DTEND;TZID=America/New_York:20240430T170000
END:VEVENT
END:VCALENDAR
