BEGIN:VCALENDAR
PRODID:-//eluceo/ical//2.0/EN
VERSION:2.0
CALSCALE:GREGORIAN
BEGIN:VEVENT
UID:bb0e34ac69e1631f801bf297c38b0490
DTSTAMP:20260423T215800Z
SUMMARY:Friendship Circle Teen Kick Off Training
DESCRIPTION:Jewish Federation of Greater Hartford\nCommunity Calendar\nhttp
 s://jewishhartford.org/community-calendar/friendship-circle-teen-kick-off-
 training-1688661673\n\nTraining for ALL teen volunteers.
DTSTART;TZID=America/New_York:20230910T170000
DTEND;TZID=America/New_York:20230910T190000
END:VEVENT
END:VCALENDAR
