BEGIN:VCALENDAR
PRODID:-//eluceo/ical//2.0/EN
VERSION:2.0
CALSCALE:GREGORIAN
BEGIN:VEVENT
UID:36f889b5406f2d7cb513df38e83ff8a1
DTSTAMP:20260422T210726Z
SUMMARY:Friendship Circle Sports Club Week 2
DESCRIPTION:Jewish Federation of Greater Hartford\nCommunity Calendar\nhttp
 s://jewishhartford.org/community-calendar/friendship-circle-sports-club-we
 ek-2-1690924311\n\nYoung adults from 2:30-3:30PM and School Age Children f
 rom 4:00-5:00PM
DTSTART;TZID=America/New_York:20240211T143000
DTEND;TZID=America/New_York:20240211T170000
END:VEVENT
END:VCALENDAR
