BEGIN:VCALENDAR
PRODID:-//eluceo/ical//2.0/EN
VERSION:2.0
CALSCALE:GREGORIAN
BEGIN:VEVENT
UID:8022b45555f233ccbd741ff5af79bba0
DTSTAMP:20260423T215755Z
SUMMARY:Friendship Circle Music Club
DESCRIPTION:Jewish Federation of Greater Hartford\nCommunity Calendar\nhttp
 s://jewishhartford.org/community-calendar/friendship-circle-music-club-168
 8662600\n\nAll are invited to jam out together!
DTSTART;TZID=America/New_York:20231105T143000
DTEND;TZID=America/New_York:20231105T173000
END:VEVENT
END:VCALENDAR
