BEGIN:VCALENDAR
PRODID:-//eluceo/ical//2.0/EN
VERSION:2.0
CALSCALE:GREGORIAN
BEGIN:VEVENT
UID:8387a96480357f85805cf86ba45a5125
DTSTAMP:20260423T065222Z
SUMMARY:Friendship Circle Mid-Year Training for Volunteers
DESCRIPTION:Jewish Federation of Greater Hartford\nCommunity Calendar\nhttp
 s://jewishhartford.org/community-calendar/friendship-circle-mid-year-train
 ing-for-volunteers-1690923966\n\nAll FC Volunteers are invited to join to 
 retrain themselves!
DTSTART;TZID=America/New_York:20240107T170000
DTEND;TZID=America/New_York:20240107T183000
END:VEVENT
END:VCALENDAR
