BEGIN:VCALENDAR
PRODID:-//eluceo/ical//2.0/EN
VERSION:2.0
CALSCALE:GREGORIAN
BEGIN:VEVENT
UID:43ff13f5d87286845ea1555238b50178
DTSTAMP:20260424T213849Z
SUMMARY:Frank Stavis Impact + Influence Fellowship
DESCRIPTION:Jewish Federation of Greater Hartford\nCommunity Calendar\nhttp
 s://jewishhartford.org/community-calendar/frank-stavis-impact--influence-f
 ellowship-1669906316\n\nThe Frank Stavis Impact + Influence Fellowship is 
 designed for emerging leaders who aim to leave a lasting impact on the Jew
 ish community. A joint program between the Jewish Federation of Greater Ha
 rtford + the Mandell JCC\, you will have access to valuable resources and 
 opportunities across our community. Over the course of five sessions\, you
 &#39\;ll explore a variety of topics the Jewish and global communities fac
 e today. Conclude your journey with an immersive leadership experience in 
 Manhattan ...
DTSTART;TZID=America/New_York:20230621T180000
DTEND;TZID=America/New_York:20230621T200000
END:VEVENT
END:VCALENDAR
