BEGIN:VCALENDAR
PRODID:-//eluceo/ical//2.0/EN
VERSION:2.0
CALSCALE:GREGORIAN
BEGIN:VEVENT
UID:e4857b6aa90d48da38bcd7b77263d41d
DTSTAMP:20260424T145039Z
SUMMARY:forum on aging
DESCRIPTION:Jewish Federation of Greater Hartford\nCommunity Calendar\nhttp
 s://jewishhartford.org/community-calendar/forum-on-aging-1697739860\n\nsma
 ll group forum to discuss aging process\, coping mechanisms
DTSTART;TZID=America/New_York:20231029T160000
DTEND;TZID=America/New_York:20231029T173000
END:VEVENT
END:VCALENDAR
