BEGIN:VCALENDAR
PRODID:-//eluceo/ical//2.0/EN
VERSION:2.0
CALSCALE:GREGORIAN
BEGIN:VEVENT
UID:be44549e756dad801ecb9f773c859785
DTSTAMP:20260423T114854Z
SUMMARY:Flavors of Israel Shabbat Party
DESCRIPTION:Jewish Federation of Greater Hartford\nCommunity Calendar\nhttp
 s://jewishhartford.org/community-calendar/flavors-of-israel-shabbat-party-
 1699549659\n\nNew England Jewish Academy invites you to join our Early Chi
 ldhood Center class in making hummus and Israeli salad!\nAll families of 2
 -5 year old children are welcome!
DTSTART;TZID=America/New_York:20231117T093000
DTEND;TZID=America/New_York:20231117T103000
END:VEVENT
END:VCALENDAR
