BEGIN:VCALENDAR
PRODID:-//eluceo/ical//2.0/EN
VERSION:2.0
CALSCALE:GREGORIAN
BEGIN:VEVENT
UID:716ff139c3ce9fe85532310918020798
DTSTAMP:20260420T120054Z
SUMMARY:First Fridays at Beth David Synagogue
DESCRIPTION:Jewish Federation of Greater Hartford\nCommunity Calendar\nhttp
 s://jewishhartford.org/community-calendar/first-fridays-at-beth-david-syna
 gogue-1724793949\n\nDinner and socializing for young professionals hosted 
 at Beth David Synagogue.
DTSTART;TZID=America/New_York:20240906T193000
DTEND;TZID=America/New_York:20240906T213000
END:VEVENT
END:VCALENDAR
