BEGIN:VCALENDAR
PRODID:-//eluceo/ical//2.0/EN
VERSION:2.0
CALSCALE:GREGORIAN
BEGIN:VEVENT
UID:8e459934c32a027ef89321445bb4d98e
DTSTAMP:20260424T224235Z
SUMMARY:FIDF Westchester and Connecticut Annual Dinner
DESCRIPTION:Jewish Federation of Greater Hartford\nCommunity Calendar\nhttp
 s://jewishhartford.org/community-calendar/fidf-westchester-and-connecticut
 -annual-dinner-1671565530\n\nJoin us for an evening filled with celebratin
 g IDF soldiers and learn more about what FIDF has accomplished.
DTSTART;TZID=America/New_York:20231029T170000
DTEND;TZID=America/New_York:20231029T213000
END:VEVENT
END:VCALENDAR
