BEGIN:VCALENDAR
PRODID:-//eluceo/ical//2.0/EN
VERSION:2.0
CALSCALE:GREGORIAN
BEGIN:VEVENT
UID:6c9cd0ed33dc2c081f43ff1912692fcc
DTSTAMP:20260423T114903Z
SUMMARY:Exhibition Opening: Hartford-Israel Connections Over 125 Years
DESCRIPTION:Jewish Federation of Greater Hartford\nCommunity Calendar\nhttp
 s://jewishhartford.org/community-calendar/exhibition-opening-hartford-isra
 el-connections-over-125-years-1698072322\n\nOpening reception for "Hartfor
 d-Israel Connections Over 125 Years\," an exhibition created by the Jewish
  Historical Society of Greater Hartford to explore the ways that Jewish co
 mmunities in the Hartford area have connected with the Jewish homeland -
 – as both dream and reality -– from 1898 to the present.
DTSTART;TZID=America/New_York:20231106T190000
DTEND;TZID=America/New_York:20231106T200000
END:VEVENT
END:VCALENDAR
