BEGIN:VCALENDAR
PRODID:-//eluceo/ical//2.0/EN
VERSION:2.0
CALSCALE:GREGORIAN
BEGIN:VEVENT
UID:1e3a01557a8395ed8352ebd68c11ff48
DTSTAMP:20260423T114857Z
SUMMARY:RED LETTER: Emanuel Players Staged Reading of Ben Engel's New Play
DESCRIPTION:Jewish Federation of Greater Hartford\nCommunity Calendar\nhttp
 s://jewishhartford.org/community-calendar/emanuel-players-staged-reading-o
 f-ben-engels-new-play-1637614129\n\nThe Arts at The Emanuel Synagogue pres
 ents the fifth in its series of new plays by Ben Engel.
DTSTART;TZID=America/New_York:20231119T190000
DTEND;TZID=America/New_York:20231119T220000
END:VEVENT
END:VCALENDAR
