BEGIN:VCALENDAR
PRODID:-//eluceo/ical//2.0/EN
VERSION:2.0
CALSCALE:GREGORIAN
BEGIN:VEVENT
UID:dacbe18977e5dc38771cc298fd3eb370
DTSTAMP:20260423T233629Z
SUMMARY:Emanuel Players Lecture on " Domitilla"
DESCRIPTION:Jewish Federation of Greater Hartford\nCommunity Calendar\nhttp
 s://jewishhartford.org/community-calendar/emanuel-players-lecture-on--domi
 tilla-1686844617\n\nDr. Steven Fraade of Yale University will give an hist
 orical account of the time of "Domitilla\," and rabbis during the Roman er
 a.
DTSTART;TZID=America/New_York:20231108T193000
DTEND;TZID=America/New_York:20231108T213000
END:VEVENT
END:VCALENDAR
