BEGIN:VCALENDAR
PRODID:-//eluceo/ical//2.0/EN
VERSION:2.0
CALSCALE:GREGORIAN
BEGIN:VEVENT
UID:74a02d7bae9b2206d0c32f574a06b49a
DTSTAMP:20260424T130608Z
SUMMARY:Confessions of a Yiddish Writer: The Life and Work of Chava Rosenfa
 rb
DESCRIPTION:Jewish Federation of Greater Hartford\nCommunity Calendar\nhttp
 s://jewishhartford.org/community-calendar/confessions-of-a-yiddish-writer-
 the-life-and-work-of-chava-rosenfarb-1701446824\n\nIn this new online cour
 se\, participants will learn about Chava Rosenfarb\, a major Yiddish novel
 ist\, essayist\, and short story writer\, who was one of the few writers t
 o compose fiction about the Holocaust in Yiddish. A survivor of Auschwitz 
 and Bergen-Belson\, her works remain essential reading on World War II-era
  and postwar Jewish life. This course is taught by Seb Schulman\, director
  of special projects and partnerships at the Yiddish Book Center\, and Ros
 enfarb’s daugther and translator\, Go...
DTSTART;TZID=America/New_York:20240117T190000
DTEND;TZID=America/New_York:20240117T203000
END:VEVENT
END:VCALENDAR
