BEGIN:VCALENDAR
PRODID:-//eluceo/ical//2.0/EN
VERSION:2.0
CALSCALE:GREGORIAN
BEGIN:VEVENT
UID:ba1667899328214ac1d0e71b24cb6e3d
DTSTAMP:20260424T083038Z
SUMMARY:Concert| Yidstock All-Stars:  Yiddish Around the World
DESCRIPTION:Jewish Federation of Greater Hartford\nCommunity Calendar\nhttp
 s://jewishhartford.org/community-calendar/concert-yidstock-all-stars--yidd
 ish-around-the-world-1686162060\n\nFrank London has put together a unique 
 band drawn from this year’s festival artists\, including Eleanor Reissa\
 , Socalled\, Sasha Lurie\, Lorin Sklamberg\, Eleonore Weill\, Merlin Sheph
 erd\, Lauren Brody\, and many others for this once-in-a-lifetime concert c
 elebrating Yiddish as a global culture.
DTSTART;TZID=America/New_York:20230716T190000
DTEND;TZID=America/New_York:20230716T203000
END:VEVENT
END:VCALENDAR
