BEGIN:VCALENDAR
PRODID:-//eluceo/ical//2.0/EN
VERSION:2.0
CALSCALE:GREGORIAN
BEGIN:VEVENT
UID:286865c60e54e287bda7361f760cf203
DTSTAMP:20260424T083044Z
SUMMARY:Concert| Nigunim Trio\, with special guest Merlin Shepherd
DESCRIPTION:Jewish Federation of Greater Hartford\nCommunity Calendar\nhttp
 s://jewishhartford.org/community-calendar/concert-nigunim-trio-with-specia
 l-guest-merlin-shepherd-1685998172\n\nNigunim Trio\, made up of Lorin Skla
 mberg\, Frank London\, and Rob Schwimmer\, will perform nigunim and zmiros
 \, spiritual Hasidic-Jewish chants of devotion and praise. They will be jo
 ined by special guest clarinetist Merlin Shepherd.
DTSTART;TZID=America/New_York:20230714T170000
DTEND;TZID=America/New_York:20230714T180000
END:VEVENT
END:VCALENDAR
