BEGIN:VCALENDAR
PRODID:-//eluceo/ical//2.0/EN
VERSION:2.0
CALSCALE:GREGORIAN
BEGIN:VEVENT
UID:dbb72507e82e25b93deda7853eb48c63
DTSTAMP:20260421T101137Z
SUMMARY:Community-wide Jewish Learning Initiative Features Expert Speakers
DESCRIPTION:Jewish Federation of Greater Hartford\nCommunity Calendar\nhttp
 s://jewishhartford.org/community-calendar/community-wide-jewish-learning-i
 nitiative-features-expert-speakers-1707859212\n\nThe ALEPH 2024 series beg
 ins February 15 and ends March 28 with seven sessions (all sessions start 
 at 7pm): \n•February 15: Deena Grant\, Ph.D.\, “The Land of Israel in 
 Biblical Thought”\n•February 22: Yoni Miller\, Ph.D.\, “The Land of 
 Israel in Biblical and Rabbinic Thought”\n•February 29: Yoni Miller\, 
 “The Land of Israel in Biblical and Rabbinic Thought” (Part 2)\n•Mar
 ch 7: Dana Fishkin\, Ph.D.\, “The Land of Israel in Medieval Jewish Thou
 ght”\n•March 14: Avinoam...
DTSTART;TZID=America/New_York:20240229T190000
DTEND;TZID=America/New_York:20240229T210000
END:VEVENT
END:VCALENDAR
