BEGIN:VCALENDAR
PRODID:-//eluceo/ical//2.0/EN
VERSION:2.0
CALSCALE:GREGORIAN
BEGIN:VEVENT
UID:f1f8c98916d940eec8d87826ae7f6e62
DTSTAMP:20260422T060428Z
SUMMARY:Charter Oak Cultural Center presents Seth Rudetsky's Broadway Fest
DESCRIPTION:Jewish Federation of Greater Hartford\nCommunity Calendar\nhttp
 s://jewishhartford.org/community-calendar/charter-oak-cultural-center-pres
 ents-seth-rudetskys-broadway-fest-1708008312\n\nSeth has worked on Broadwa
 y for over twenty-five years and his recent book Musical Theatre For Dummi
 es recently made the New York Times Holiday Buying Guide. Since this is Ve
 gas\, Seth is willing to bet that you’ll leave the show being obsessed w
 ith stars like Sutton Foster\, Patti LuPone\, Alex Newell\, Betty Buckley\
 , Ben Platt\, Audra McDonald\, Donna McKechnie and Chita Rivera and immedi
 ately get yourself to NYC to see a Broadway musical! And the evening isn
 ’t just about being blown away by...
DTSTART;TZID=America/New_York:20240307T190000
DTEND;TZID=America/New_York:20240307T203000
END:VEVENT
END:VCALENDAR
