BEGIN:VCALENDAR
PRODID:-//eluceo/ical//2.0/EN
VERSION:2.0
CALSCALE:GREGORIAN
BEGIN:VEVENT
UID:c1bf0756657a3301ca8233174992dd05
DTSTAMP:20260421T122658Z
SUMMARY:Challagrams
DESCRIPTION:Jewish Federation of Greater Hartford\nCommunity Calendar\nhttp
 s://jewishhartford.org/community-calendar/challagrams-1690924647\n\nJoin u
 s in making delicious challah together!
DTSTART;TZID=America/New_York:20240229T173000
DTEND;TZID=America/New_York:20240229T183000
END:VEVENT
END:VCALENDAR
