BEGIN:VCALENDAR
PRODID:-//eluceo/ical//2.0/EN
VERSION:2.0
CALSCALE:GREGORIAN
BEGIN:VEVENT
UID:867031b3af150ab86c405e23e9fd1615
DTSTAMP:20260423T195422Z
SUMMARY:RED LETTER: Chabad Annual Gala
DESCRIPTION:Jewish Federation of Greater Hartford\nCommunity Calendar\nhttp
 s://jewishhartford.org/community-calendar/chabad-annual-gala-1682006991\n\
 nAnnual fundraiser dinner
DTSTART;TZID=America/New_York:20231109T170000
DTEND;TZID=America/New_York:20231109T210000
END:VEVENT
END:VCALENDAR
