BEGIN:VCALENDAR
PRODID:-//eluceo/ical//2.0/EN
VERSION:2.0
CALSCALE:GREGORIAN
BEGIN:VEVENT
UID:84150b5b1695fba1da1304eb38d66294
DTSTAMP:20260425T163827Z
SUMMARY:Celebrating Sukkot @ the jcc
DESCRIPTION:Jewish Federation of Greater Hartford\nCommunity Calendar\nhttp
 s://jewishhartford.org/community-calendar/celebrating-sukkot--the-jcc-1695
 748403\n\nIn Israel there are many traditional foods enjoyed during the\nh
 oliday of Sukkot. Sukkot\, also known as the Festival of\nBooths\, celebra
 tes the harvest. Join others to learn\, taste\nand experience all that thi
 s holiday offers.\nThe delicious samples are generously donated by our\nco
 -sponsor Crown Market.\nFREE & OPEN TO ALL\n\n \n\nrsvp here :\nhttps://f
 orms.gle/xWmTk3UBn9jE5S1WA
DTSTART;TZID=America/New_York:20231004T170000
DTEND;TZID=America/New_York:20231004T183000
END:VEVENT
END:VCALENDAR
