BEGIN:VCALENDAR
PRODID:-//eluceo/ical//2.0/EN
VERSION:2.0
CALSCALE:GREGORIAN
BEGIN:VEVENT
UID:6f44d67d3f878254fae8edbd0cfe8d27
DTSTAMP:20260424T192637Z
SUMMARY:CBI's Tot Shabbat Picnic
DESCRIPTION:Jewish Federation of Greater Hartford\nCommunity Calendar\nhttp
 s://jewishhartford.org/community-calendar/cbis-tot-shabbat-picnic-16878011
 20\n\nJoin us for a picnic and fun time on the playground and splash pad a
 t Fernridge Park. We will sing and dance our way through Shabbat together 
 and then have lunch and play! Be sure to bring a towel and sunscreen. Chil
 dren under 6\, siblings\, parents\, grandparents - the whole mishpocha - a
 re invited to join us. RSVPs encouraged to mmeyer@cbict.org
DTSTART;TZID=America/New_York:20230715T103000
DTEND;TZID=America/New_York:20230715T123000
END:VEVENT
END:VCALENDAR
