BEGIN:VCALENDAR
PRODID:-//eluceo/ical//2.0/EN
VERSION:2.0
CALSCALE:GREGORIAN
BEGIN:VEVENT
UID:42d30792b1b2ffc77e9b758acf1ce5d3
DTSTAMP:20260421T095959Z
SUMMARY:CBI's Tot Shabbat at Fernridge Park
DESCRIPTION:Jewish Federation of Greater Hartford\nCommunity Calendar\nhttp
 s://jewishhartford.org/community-calendar/cbis-tot-shabbat-at-fernridge-pa
 rk-1750261061\n\nJoin us for a picnic lunch and a fun time on the playgrou
 nd and splash pad at Fernridge Park in West Hartford! We will sing and dan
 ce our way through Shabbat together and then have lunch and play! Bring yo
 ur lunch\, towels and sunscreen. CBI will bring dessert! Children 6 and un
 der and their families\, the whole mishpocha\, are invited to join us. RSV
 Ps are encouraged to ensure we have enough dessert\, email Michelle at mme
 yer@cbict.org or call 860-233-8215 by July 31.
DTSTART;TZID=America/New_York:20250802T103000
DTEND;TZID=America/New_York:20250802T113000
END:VEVENT
END:VCALENDAR
